BEGIN:VCALENDAR
VERSION:2.0
PRODID:-//Contratero//ES
CALSCALE:GREGORIAN
METHOD:PUBLISH
BEGIN:VEVENT
UID:8/2021 AB (SG/DSP)@contratero.es
DTSTAMP:20260421T134910Z
DTSTART:20210702T235959
DTEND:20210703T005959
SUMMARY:Cierre: Servicio de implantación y soporte de la aplicació
DESCRIPTION:Servicio de implantación y soporte de la aplicación de gestión de Recursos Humanos Meta 4\\n\\nOrganismo: Dirección General del Centro para el Desarrollo Tecnológico y la Innovación\, E.P.E\\n\\nVer en Contratero: https://contratero.es/contracts/8/2021 AB (SG/DSP)
URL:https://contratero.es/contracts/8/2021 AB (SG/DSP)
STATUS:CONFIRMED
BEGIN:VALARM
TRIGGER:-P1D
ACTION:DISPLAY
DESCRIPTION:Recordatorio: Servicio de implantación y sop
END:VALARM
END:VEVENT
END:VCALENDAR